BEGIN:VCALENDAR
VERSION:2.0
PRODID:Events Booking
BEGIN:VEVENT
UID:69e714d3e721f
SUMMARY:PRINCE2® 7 Practitioner on-line
DESCRIPTION:
DTSTART:20991230T230000Z
DTEND:20991230T230000Z
DTSTAMP:20260421T081027Z
ORGANIZER;CN=ITSM CENTER d.o.o.:MAILTO:info@itsm-center.si
END:VEVENT
END:VCALENDAR