BEGIN:VCALENDAR
VERSION:2.0
PRODID:Events Booking
BEGIN:VEVENT
UID:69e5ef69b0876
SUMMARY:ITIL® 5 Foundation on-line
DESCRIPTION:
DTSTART:20991230T230000Z
DTEND:20991230T230000Z
DTSTAMP:20260420T111833Z
ORGANIZER;CN=ITSM CENTER d.o.o.:MAILTO:info@itsm-center.si
END:VEVENT
END:VCALENDAR