BEGIN:VCALENDAR
VERSION:2.0
PRODID:Events Booking
BEGIN:VEVENT
UID:69ea1f54049db
SUMMARY:ITIL® 5 Foundation
DESCRIPTION:IT Service Management
 [text align=\"justify\"]The purpose of 
 the ITIL® Foundation certificate in IT Service Management is to obtain kn
 owledge of the ITIL® terminology\, structure and basic concepts of ITIL®
 .[/text]
LOCATION:ITSM CENTER d.o.o.\, Ljubljanska cesta 12f\, 1236 Trzin\, Slovenij
 a
DTSTART:20260525T070000Z
DTEND:20260527T100000Z
DTSTAMP:20211021T090544Z
ORGANIZER;CN=ITSM CENTER d.o.o.:MAILTO:info@itsm-center.si
GEO:46.13304;14.56185
X-APPLE-STRUCTURED-LOCATION;VALUE=URI;X-ADDRESS=ITSM CENTER d.o.o.\, Ljublj
 anska cesta 12f\, 1236 Trzin\, Slovenija;X-APPLE-RADIUS=72;X-TITLE=Ljublja
 na:46.13304;14.56185
END:VEVENT
END:VCALENDAR